BEGIN:VCALENDAR
VERSION:2.0
PRODID:-//SV Sportfreunde Anderten e.V. von 1922 - ECPv6.15.20//NONSGML v1.0//EN
CALSCALE:GREGORIAN
METHOD:PUBLISH
X-WR-CALNAME:SV Sportfreunde Anderten e.V. von 1922
X-ORIGINAL-URL:https://sf-anderten.de
X-WR-CALDESC:Veranstaltungen für SV Sportfreunde Anderten e.V. von 1922
REFRESH-INTERVAL;VALUE=DURATION:PT1H
X-Robots-Tag:noindex
X-PUBLISHED-TTL:PT1H
BEGIN:VTIMEZONE
TZID:Europe/Berlin
BEGIN:DAYLIGHT
TZOFFSETFROM:+0100
TZOFFSETTO:+0200
TZNAME:CEST
DTSTART:20250330T010000
END:DAYLIGHT
BEGIN:STANDARD
TZOFFSETFROM:+0200
TZOFFSETTO:+0100
TZNAME:CET
DTSTART:20251026T010000
END:STANDARD
BEGIN:DAYLIGHT
TZOFFSETFROM:+0100
TZOFFSETTO:+0200
TZNAME:CEST
DTSTART:20260329T010000
END:DAYLIGHT
BEGIN:STANDARD
TZOFFSETFROM:+0200
TZOFFSETTO:+0100
TZNAME:CET
DTSTART:20261025T010000
END:STANDARD
BEGIN:DAYLIGHT
TZOFFSETFROM:+0100
TZOFFSETTO:+0200
TZNAME:CEST
DTSTART:20270328T010000
END:DAYLIGHT
BEGIN:STANDARD
TZOFFSETFROM:+0200
TZOFFSETTO:+0100
TZNAME:CET
DTSTART:20271031T010000
END:STANDARD
END:VTIMEZONE
BEGIN:VEVENT
DTSTART;VALUE=DATE:20260507
DTEND;VALUE=DATE:20260511
DTSTAMP:20260425T144211
CREATED:20260310T132130Z
LAST-MODIFIED:20260310T154038Z
UID:1613-1778112000-1778457599@sf-anderten.de
SUMMARY:Tullyvallen Rangers zu Gast im Mai 2026!
DESCRIPTION:Im Jahr 2026 kommen unsere Freunde von den Tullyvallen Rangers aus Nordirland wieder nach Deutschland! \nEin genauer Programmplan wird noch zu gegebener Zeit veröffentlicht!
URL:https://sf-anderten.de/event/tullyvallen-rangers-zu-gast-im-mai-2026/
LOCATION:SV Sportfreunde Anderten e.V. von 1922\, Eisteichweg 13\, Hannover\, Niedersachsen\, 30559\, Germany
CATEGORIES:Öffentliche Veranstaltung,Vereinsinterne Veranstaltung
ATTACH;FMTTYPE=image/png:https://sf-anderten.de/wp-content/uploads/2026/02/Kopie-von-Franzosen-Thumbnail-.png
ORGANIZER;CN="SV Sportfreunde Anderten e.V. von 1922":MAILTO:info@sf-anderten.de
END:VEVENT
BEGIN:VEVENT
DTSTART;VALUE=DATE:20260522
DTEND;VALUE=DATE:20260526
DTSTAMP:20260425T144211
CREATED:20260120T132224Z
LAST-MODIFIED:20260310T153950Z
UID:1580-1779408000-1779753599@sf-anderten.de
SUMMARY:Deutsch-Französischer Austausch: Der CMS Oissel kommt im Mai 2026!
DESCRIPTION:Unsere Freunde vom CMS Oissel aus Frankreich besuchen uns auch in diesem Jahr wieder in Anderten! \nÜber Pfingsten wird es wieder ein spannendes Programm und verschiedene Aktivitäten geben um die Partnerschaft Anderten 🇩🇪🤝🇫🇷 Oissel zu feiern! \nMerkt euch den Termin vor und nehmt an den Feierlichkeiten teil! 👍🏼
URL:https://sf-anderten.de/event/deutsch-franzoesischer-austausch-der-cms-oissel-kommt/
LOCATION:SV Sportfreunde Anderten e.V. von 1922\, Eisteichweg 13\, Hannover\, Niedersachsen\, 30559\, Germany
CATEGORIES:Öffentliche Veranstaltung,Vereinsinterne Veranstaltung
ATTACH;FMTTYPE=image/png:https://sf-anderten.de/wp-content/uploads/2026/01/Franzosen-Thumbnail-.png
ORGANIZER;CN="SV Sportfreunde Anderten e.V. von 1922":MAILTO:info@sf-anderten.de
END:VEVENT
BEGIN:VEVENT
DTSTART;TZID=Europe/Berlin:20260606T100000
DTEND;TZID=Europe/Berlin:20260606T140000
DTSTAMP:20260425T144211
CREATED:20260120T131606Z
LAST-MODIFIED:20260128T184436Z
UID:1577-1780740000-1780754400@sf-anderten.de
SUMMARY:Arbeitseinsatz am 06.06.2026
DESCRIPTION:Am 06.06.2026 habt ihr wieder die Möglichkeit Arbeitsstunden zu leisten. \nMögliche Arbeiten sind u.a.: \n\nHecken und Bäume schneiden\nGehwege ausbessern\nUnkraut entfernen auf den Fußwegen und dem restlichen Vereinsgelände\nEntsorgung von defekten Outdoor Möbeln
URL:https://sf-anderten.de/event/arbeitseinsatz-am-06-06-2026/
LOCATION:SV Sportfreunde Anderten e.V. von 1922\, Eisteichweg 13\, Hannover\, Niedersachsen\, 30559\, Germany
CATEGORIES:Arbeitseinsatz,Vereinsinterne Veranstaltung
ATTACH;FMTTYPE=image/jpeg:https://sf-anderten.de/wp-content/uploads/2026/01/Design-ohne-Titel.jpg
ORGANIZER;CN="SV Sportfreunde Anderten e.V. von 1922":MAILTO:info@sf-anderten.de
END:VEVENT
BEGIN:VEVENT
DTSTART;VALUE=DATE:20260607
DTEND;VALUE=DATE:20260608
DTSTAMP:20260425T144211
CREATED:20260310T134342Z
LAST-MODIFIED:20260310T153831Z
UID:1611-1780790400-1780876799@sf-anderten.de
SUMMARY:Save the Date: Saisonabschluss Feier 2025/2026
DESCRIPTION:Feiert mit uns die vergangene Saison 2025/2026 am Platz! \nMerkt Euch schon mal das Datum! Alle weiteren Informationen gibt es dann zu gegebener Zeit.
URL:https://sf-anderten.de/event/save-the-date-saisonabschluss-feier-2025-2026/
LOCATION:SV Sportfreunde Anderten e.V. von 1922\, Eisteichweg 13\, Hannover\, Niedersachsen\, 30559\, Germany
CATEGORIES:Öffentliche Veranstaltung,Vereinsinterne Veranstaltung
ATTACH;FMTTYPE=image/png:https://sf-anderten.de/wp-content/uploads/2026/03/Thumbnail-Saisonabschluss-Feier-2526.png
ORGANIZER;CN="SV Sportfreunde Anderten e.V. von 1922":MAILTO:info@sf-anderten.de
END:VEVENT
BEGIN:VEVENT
DTSTART;VALUE=DATE:20260620
DTEND;VALUE=DATE:20260622
DTSTAMP:20260425T144211
CREATED:20260120T132446Z
LAST-MODIFIED:20260310T153743Z
UID:1585-1781913600-1782086399@sf-anderten.de
SUMMARY:Schleusencup 2026
DESCRIPTION:Auch dieses Jahr wollen wir wieder den Schleusencup starten. \nWarum? Weil wir wirklich tolle Mannschaften\, Trainer\, Kinder\, Eltern\, Helfer und natürlich super Wetter haben. \nANMELDUNG: turnier@sf-anderten.de  \n \nWir freuen uns von der G Jugend bis zur E Jugend wieder viel Spaß und Ehrgeiz auf dem Platz zu sehen. \n 
URL:https://sf-anderten.de/event/schleusencup-2026/
LOCATION:SV Sportfreunde Anderten e.V. von 1922\, Eisteichweg 13\, Hannover\, Niedersachsen\, 30559\, Germany
CATEGORIES:Öffentliche Veranstaltung
ATTACH;FMTTYPE=image/png:https://sf-anderten.de/wp-content/uploads/2026/01/Schleusencup-Thumbnail.png
ORGANIZER;CN="SV Sportfreunde Anderten e.V. von 1922":MAILTO:info@sf-anderten.de
END:VEVENT
BEGIN:VEVENT
DTSTART;VALUE=DATE:20260628
DTEND;VALUE=DATE:20260629
DTSTAMP:20260425T144211
CREATED:20260310T140303Z
LAST-MODIFIED:20260413T143231Z
UID:1615-1782604800-1782691199@sf-anderten.de
SUMMARY:Second-Hand-Basar 2026
DESCRIPTION:Im letzten Jahr fand das erste Mal unser Second-Hand-Basar für Kinderbekleidung\, Bücher und Spiele statt. Die Teilnahme war super und das Feedback ebenfalls! Dies möchten wir in diesem Jahr gerne wiederholen! \nAnmeldung zum Verkauf möglich unter schiedsrichter@sf-anderten.de \n 
URL:https://sf-anderten.de/event/second-hand-basar/
LOCATION:SV Sportfreunde Anderten e.V. von 1922\, Eisteichweg 13\, Hannover\, Niedersachsen\, 30559\, Germany
CATEGORIES:Öffentliche Veranstaltung
ATTACH;FMTTYPE=image/png:https://sf-anderten.de/wp-content/uploads/2026/03/Thumbnail-Basar-2026.png
ORGANIZER;CN="SV Sportfreunde Anderten e.V. von 1922":MAILTO:info@sf-anderten.de
END:VEVENT
BEGIN:VEVENT
DTSTART;VALUE=DATE:20260703
DTEND;VALUE=DATE:20260706
DTSTAMP:20260425T144211
CREATED:20260310T135141Z
LAST-MODIFIED:20260310T153440Z
UID:1617-1783036800-1783295999@sf-anderten.de
SUMMARY:Goalkeeping Academy in Anderten (Juli 2026)
DESCRIPTION:Die Goalkeeping-Academy veranstaltet ein dreitägiges Torwart-Sommercamp in Anderten! \nDie Anmeldung kann hier erfolgen: https://goalkeeping.com/products/sommer-torwartcamp-in-hannover-ger?srsltid=AfmBOork9kjLWJ9FTYDWMxDXM3jS0kDmdCzWcp1Oi_kaIUX15zVh_sYa
URL:https://sf-anderten.de/event/goalkeeping-academy-in-anderten-juli-2026/
LOCATION:SV Sportfreunde Anderten e.V. von 1922\, Eisteichweg 13\, Hannover\, Niedersachsen\, 30559\, Germany
CATEGORIES:Fussballcamps
ATTACH;FMTTYPE=image/png:https://sf-anderten.de/wp-content/uploads/2026/03/Thumbnail-Goalkeeping-Academy.png
ORGANIZER;CN="SV Sportfreunde Anderten e.V. von 1922":MAILTO:info@sf-anderten.de
END:VEVENT
BEGIN:VEVENT
DTSTART;VALUE=DATE:20260706
DTEND;VALUE=DATE:20260709
DTSTAMP:20260425T144211
CREATED:20260310T133950Z
LAST-MODIFIED:20260310T153405Z
UID:1619-1783296000-1783555199@sf-anderten.de
SUMMARY:Bayern München Fußballcamp in Anderten (Juli 2026)
DESCRIPTION:Zum ersten Mal wird das Fussballcamp vom FC Bayern München in Anderten stattfinden! Seid dabei und meldet euch an! \nDie Anmeldung kann hier erfolgen: https://fcbayern.com/kidsclub/de/events/fussballcamp/fussballcamp-2026/ankuendigungen-fussballcamps-2026/ankuendigung-dreitaegige-fussballcamps-2026 \n 
URL:https://sf-anderten.de/event/bayern-muenchen-fussballcamp-in-anderten-juli-2026/
LOCATION:SV Sportfreunde Anderten e.V. von 1922\, Eisteichweg 13\, Hannover\, Niedersachsen\, 30559\, Germany
CATEGORIES:Fussballcamps
ATTACH;FMTTYPE=image/png:https://sf-anderten.de/wp-content/uploads/2026/03/Fussballcamp-FCB-2026.png
ORGANIZER;CN="SV Sportfreunde Anderten e.V. von 1922":MAILTO:info@sf-anderten.de
END:VEVENT
BEGIN:VEVENT
DTSTART;VALUE=DATE:20260719
DTEND;VALUE=DATE:20260720
DTSTAMP:20260425T144211
CREATED:20260310T141858Z
LAST-MODIFIED:20260310T153322Z
UID:1621-1784419200-1784505599@sf-anderten.de
SUMMARY:Schützenausmarsch 2026
DESCRIPTION:Schützenausmarsch ohne die Sportfreunde? Auf keinen Fall! \nSeid dabei und lauft bei uns im Zug mit durch unseren schönen Stadtteil! Wie gehabt: alle in Grün und mit guter Laune! \nGenaue Infos werden noch zeitnah veröffentlicht.
URL:https://sf-anderten.de/event/schuetzenausmarsch-2026/
LOCATION:Anderter Schützenplatz\, Anderter Schützenplatz 7\, Hannover-Anderten\, 30559\, Germany
CATEGORIES:Öffentliche Veranstaltung
ATTACH;FMTTYPE=image/png:https://sf-anderten.de/wp-content/uploads/2026/03/Thumbnail-Schuetzenausmarsch-2026-2.png
END:VEVENT
BEGIN:VEVENT
DTSTART;VALUE=DATE:20260803
DTEND;VALUE=DATE:20260808
DTSTAMP:20260425T144211
CREATED:20260310T133325Z
LAST-MODIFIED:20260310T153216Z
UID:1623-1785715200-1786147199@sf-anderten.de
SUMMARY:Real Madrid Fußballcamp (August 2026)
DESCRIPTION:Erneut kommt die Real Madrid Fussballakademie nach Anderten. Vom 03.-07.08.2026 findet das Fussballcamp statt. \nAnmeldungen können hier erfolgen: https://frmclinics.com/sv-sportfreunde-anderten-2026 \n 
URL:https://sf-anderten.de/event/real-madrid-fussballcamp-august-2026/
LOCATION:SV Sportfreunde Anderten e.V. von 1922\, Eisteichweg 13\, Hannover\, Niedersachsen\, 30559\, Germany
CATEGORIES:Fussballcamps
ATTACH;FMTTYPE=image/png:https://sf-anderten.de/wp-content/uploads/2026/03/Fussballcamp-RM-2026.png
ORGANIZER;CN="SV Sportfreunde Anderten e.V. von 1922":MAILTO:info@sf-anderten.de
END:VEVENT
BEGIN:VEVENT
DTSTART;VALUE=DATE:20260829
DTEND;VALUE=DATE:20260830
DTSTAMP:20260425T144211
CREATED:20260310T152722Z
LAST-MODIFIED:20260310T152722Z
UID:1671-1787961600-1788047999@sf-anderten.de
SUMMARY:Beachvolleyball-Turnier 2026
DESCRIPTION:Unsere neue Volleyballsparte veranstaltet zum ersten Mal ein Beachvolleyball-Jux-Turnier. Genaue Infos folgen!
URL:https://sf-anderten.de/event/beachvolleyball-turnier-2026/
LOCATION:SV Sportfreunde Anderten e.V. von 1922\, Eisteichweg 13\, Hannover\, Niedersachsen\, 30559\, Germany
CATEGORIES:Öffentliche Veranstaltung,Vereinsinterne Veranstaltung
ATTACH;FMTTYPE=image/png:https://sf-anderten.de/wp-content/uploads/2026/03/Thumbnail-Beachvolleball-Juxturnier-2026.png
ORGANIZER;CN="SV Sportfreunde Anderten e.V. von 1922":MAILTO:info@sf-anderten.de
END:VEVENT
BEGIN:VEVENT
DTSTART;VALUE=DATE:20261212
DTEND;VALUE=DATE:20261213
DTSTAMP:20260425T144211
CREATED:20260310T151434Z
LAST-MODIFIED:20260310T151434Z
UID:1625-1797033600-1797119999@sf-anderten.de
SUMMARY:Weihnachtsmarkt 2026
DESCRIPTION:Der Weihnachtsmarkt der Sportfreunde findet am 12.12.2026 bei uns am Vereinsgelände statt!  \nGenaue Infos folgen!
URL:https://sf-anderten.de/event/weihnachtsmarkt-2026/
LOCATION:SV Sportfreunde Anderten e.V. von 1922\, Eisteichweg 13\, Hannover\, Niedersachsen\, 30559\, Germany
CATEGORIES:Öffentliche Veranstaltung,Vereinsinterne Veranstaltung
ATTACH;FMTTYPE=image/png:https://sf-anderten.de/wp-content/uploads/2026/03/Weihnachtsmarkt-2026.png
ORGANIZER;CN="SV Sportfreunde Anderten e.V. von 1922":MAILTO:info@sf-anderten.de
END:VEVENT
BEGIN:VEVENT
DTSTART;VALUE=DATE:20261227
DTEND;VALUE=DATE:20261228
DTSTAMP:20260425T144211
CREATED:20260310T152059Z
LAST-MODIFIED:20260310T152059Z
UID:1627-1798329600-1798415999@sf-anderten.de
SUMMARY:Jux-Turnier 2026
DESCRIPTION:Der beliebte Hallenfußball-Budenzauber findet auch im Jahr 2026 wieder statt. Ein genauer Termin sowie weitere Infos werden noch bekannt gegeben.
URL:https://sf-anderten.de/event/jux-turnier-2026/
LOCATION:Sporthalle Anderten\, Eisteichweg 7-9\, Hannover\, Niedersachsen\, 30559\, Germany
CATEGORIES:Öffentliche Veranstaltung,Vereinsinterne Veranstaltung
ATTACH;FMTTYPE=image/png:https://sf-anderten.de/wp-content/uploads/2026/03/Thumbnail-Juxturnier-2026.png
ORGANIZER;CN="SV Sportfreunde Anderten e.V. von 1922":MAILTO:info@sf-anderten.de
END:VEVENT
END:VCALENDAR